BEGIN:VCALENDAR
VERSION:2.0
PRODID:-//Helsingborgs Scoutkår - ECPv6.15.20//NONSGML v1.0//EN
CALSCALE:GREGORIAN
METHOD:PUBLISH
X-ORIGINAL-URL:https://www.scouthelsingborg.se
X-WR-CALDESC:Händelser för Helsingborgs Scoutkår
REFRESH-INTERVAL;VALUE=DURATION:PT1H
X-Robots-Tag:noindex
X-PUBLISHED-TTL:PT1H
BEGIN:VTIMEZONE
TZID:Europe/Stockholm
BEGIN:DAYLIGHT
TZOFFSETFROM:+0100
TZOFFSETTO:+0200
TZNAME:CEST
DTSTART:20260329T010000
END:DAYLIGHT
BEGIN:STANDARD
TZOFFSETFROM:+0200
TZOFFSETTO:+0100
TZNAME:CET
DTSTART:20261025T010000
END:STANDARD
BEGIN:DAYLIGHT
TZOFFSETFROM:+0100
TZOFFSETTO:+0200
TZNAME:CEST
DTSTART:20270328T010000
END:DAYLIGHT
BEGIN:STANDARD
TZOFFSETFROM:+0200
TZOFFSETTO:+0100
TZNAME:CET
DTSTART:20271031T010000
END:STANDARD
BEGIN:DAYLIGHT
TZOFFSETFROM:+0100
TZOFFSETTO:+0200
TZNAME:CEST
DTSTART:20280326T010000
END:DAYLIGHT
BEGIN:STANDARD
TZOFFSETFROM:+0200
TZOFFSETTO:+0100
TZNAME:CET
DTSTART:20281029T010000
END:STANDARD
BEGIN:DAYLIGHT
TZOFFSETFROM:+0100
TZOFFSETTO:+0200
TZNAME:CEST
DTSTART:20290325T010000
END:DAYLIGHT
BEGIN:STANDARD
TZOFFSETFROM:+0200
TZOFFSETTO:+0100
TZNAME:CET
DTSTART:20291028T010000
END:STANDARD
BEGIN:DAYLIGHT
TZOFFSETFROM:+0100
TZOFFSETTO:+0200
TZNAME:CEST
DTSTART:20300331T010000
END:DAYLIGHT
BEGIN:STANDARD
TZOFFSETFROM:+0200
TZOFFSETTO:+0100
TZNAME:CET
DTSTART:20301027T010000
END:STANDARD
BEGIN:DAYLIGHT
TZOFFSETFROM:+0100
TZOFFSETTO:+0200
TZNAME:CEST
DTSTART:20310330T010000
END:DAYLIGHT
BEGIN:STANDARD
TZOFFSETFROM:+0200
TZOFFSETTO:+0100
TZNAME:CET
DTSTART:20311026T010000
END:STANDARD
BEGIN:DAYLIGHT
TZOFFSETFROM:+0100
TZOFFSETTO:+0200
TZNAME:CEST
DTSTART:20320328T010000
END:DAYLIGHT
BEGIN:STANDARD
TZOFFSETFROM:+0200
TZOFFSETTO:+0100
TZNAME:CET
DTSTART:20321031T010000
END:STANDARD
END:VTIMEZONE
BEGIN:VEVENT
DTSTART;TZID=Europe/Stockholm:20270730T080000
DTEND;TZID=Europe/Stockholm:20270808T170000
DTSTAMP:20260425T123631
CREATED:20241207T203957Z
LAST-MODIFIED:20241207T205400Z
UID:24349-1816934400-1817744400@www.scouthelsingborg.se
SUMMARY:26th World Scout Jamboree 2027 (Poland)
DESCRIPTION:Vill du vara volontär kontakta dimitrij.aleshkov@scouterna.se för mer info. \nSom deltagare scout är du född mellan 2009-09-01 – 2013-08-30 \n 
URL:https://www.scouthelsingborg.se/kalender/26th-world-scout-jamboree/
END:VEVENT
BEGIN:VEVENT
DTSTART;TZID=Europe/Stockholm:20310728T080000
DTEND;TZID=Europe/Stockholm:20310808T170000
DTSTAMP:20260425T123631
CREATED:20241207T205321Z
LAST-MODIFIED:20241207T205423Z
UID:24355-1942992000-1943974800@www.scouthelsingborg.se
SUMMARY:World Scout Jamboree 2031 (Denmark)
DESCRIPTION:Vill du vara volontär kontakt dimitrij.aleshkov@scouterna.se \nSom deltagare scout är du född mellan 2013-09-01 – 2017-08-30 \n 
URL:https://www.scouthelsingborg.se/kalender/world-scout-jamboree-2031/
END:VEVENT
END:VCALENDAR